BEGIN:VCALENDAR
VERSION:2.0
PRODID:-//pretix//JMC:nw_-_Pretix//
BEGIN:VTIMEZONE
TZID:Europe/Berlin
BEGIN:STANDARD
DTSTART:20001029T040000
RRULE:FREQ=YEARLY;BYDAY=-1SU;BYMONTH=10
TZNAME:CET
TZOFFSETFROM:+0200
TZOFFSETTO:+0100
END:STANDARD
BEGIN:DAYLIGHT
DTSTART:20000326T030000
RRULE:FREQ=YEARLY;BYDAY=-1SU;BYMONTH=3
TZNAME:CEST
TZOFFSETFROM:+0100
TZOFFSETTO:+0200
END:DAYLIGHT
END:VTIMEZONE
BEGIN:VEVENT
UID:pretix-jpn-jmcnw2026-0@anmeldung.jmc-nw.de
DTSTART;TZID=Europe/Berlin:20260513T120000
DTEND;TZID=Europe/Berlin:20260517T120000
DESCRIPTION:Tickets: https://anmeldung.jmc-nw.de/jpn/jmcnw2026/\nVeranstalt
 er: Junge Presse Niedersachsen e.V.
DTSTAMP:20260420T021256Z
LOCATION:Loxstedt bei Bremerhaven
SUMMARY:JMC:nw 2026
END:VEVENT
END:VCALENDAR
